BEGIN:VCALENDAR
VERSION:2.0
PRODID:-//Guía Minera de Chile - ECPv5.3.0//NONSGML v1.0//EN
CALSCALE:GREGORIAN
METHOD:PUBLISH
X-WR-CALNAME:Guía Minera de Chile
X-ORIGINAL-URL:https://www.guiaminera.cl
X-WR-CALDESC:Eventos para Guía Minera de Chile
BEGIN:VTIMEZONE
TZID:America/Halifax
BEGIN:DAYLIGHT
TZOFFSETFROM:-0400
TZOFFSETTO:-0300
TZNAME:ADT
DTSTART:20200308T060000
END:DAYLIGHT
BEGIN:STANDARD
TZOFFSETFROM:-0300
TZOFFSETTO:-0400
TZNAME:AST
DTSTART:20201101T050000
END:STANDARD
END:VTIMEZONE
BEGIN:VEVENT
DTSTART;VALUE=DATE:20200924
DTEND;VALUE=DATE:20200925
DTSTAMP:20260421T045631
CREATED:20200924T023044Z
LAST-MODIFIED:20200924T023044Z
UID:8273-1600905600-1600991999@www.guiaminera.cl
SUMMARY:Actualización LEY 20.920 Gestión de Residuos
DESCRIPTION:Registrase
URL:https://www.guiaminera.cl/evento/actualizacion-ley-20-920-gestion-de-residuos/
END:VEVENT
END:VCALENDAR