BEGIN:VCALENDAR
VERSION:2.0
PRODID:-//Guía Minera de Chile - ECPv5.3.0//NONSGML v1.0//EN
CALSCALE:GREGORIAN
METHOD:PUBLISH
X-WR-CALNAME:Guía Minera de Chile
X-ORIGINAL-URL:https://www.guiaminera.cl
X-WR-CALDESC:Eventos para Guía Minera de Chile
BEGIN:VTIMEZONE
TZID:America/Halifax
BEGIN:DAYLIGHT
TZOFFSETFROM:-0400
TZOFFSETTO:-0300
TZNAME:ADT
DTSTART:20200308T060000
END:DAYLIGHT
BEGIN:STANDARD
TZOFFSETFROM:-0300
TZOFFSETTO:-0400
TZNAME:AST
DTSTART:20201101T050000
END:STANDARD
END:VTIMEZONE
BEGIN:VEVENT
DTSTART;VALUE=DATE:20201210
DTEND;VALUE=DATE:20201211
DTSTAMP:20260421T045006
CREATED:20201127T021451Z
LAST-MODIFIED:20201127T021525Z
UID:9296-1607558400-1607644799@www.guiaminera.cl
SUMMARY:Cesco organiza webinar “Nueva capacidad de fundición para Chile”
DESCRIPTION:La instancia contará con la participación de autoridades\, actores del sector y analistas\, quienes conversarán sobre el futuro de las fundiciones en Chile el próximo 10 de diciembre.  \nDurante los últimos 30 años Chile ha visto disminuida su capacidad de refinación\, llegando a representar menos del 40% de la producción de cobre del país. Lo anterior\, debido al atraso tecnológico\, la falta de innovación\, y la contaminación de algunas fundiciones\, sumado a los altos costos\, pérdidas de mercado y una mala reputación de la actividad\, afectan al conjunto de la minería. \nSin embargo\, Chile seguirá siendo un país minero\, y uno de los actores más relevantes en el mundo en materia de minería del cobre\, por lo que tendrá que responder a mayores exigencias por parte del mercado por nuevos procesos y productos que apunten a una economía verde. En ese sentido\, será crítico contar con una capacidad fundidora que responda a los desafíos ambientales y de competitividad\, con tecnología de punta y que genere empleos de calidad\, compatible con los territorios y comunidades en que opera. \nEn ese marco es que autoridades nacionales\, analistas y actores del sector se reunirán en el webinar “Nueva capacidad de fundición para Chile”\, instancia organizada por el Centro de Estudios del Cobre y la Minería\, para conversar abiertamente sobre el futuro de la industria en el país. \nLa actividad\, que cuenta con el patrocinio del Ministerio de Minería\, se desarrollará el próximo 10 de diciembre a partir de las 09:30 horas\, y contará con las presentaciones del Subsecretario de la cartera\, Iván Cheuquelaf; el director de Cesco\, Iván Valenzuela; y los analistas de la consultora CRU\, Ben Jones y Erik Heimlich. Luego\, se realizará un panel de discusión moderado por la directora Ejecutiva de Cesco\, Alejandra Wood\, y en el que participarán la gerente general de Altonorte\, Beatrice Pierre; Iván Valenzuela; y los senadores Alejandro García Huidobro y Juan Pablo Letelier. \nPara participar en la actividad\, inscríbase aquí. \n 
URL:https://www.guiaminera.cl/evento/cesco-organiza-webinar-nueva-capacidad-de-fundicion-para-chile/
END:VEVENT
END:VCALENDAR