BEGIN:VCALENDAR
VERSION:2.0
PRODID:-//Guía Minera de Chile - ECPv5.3.0//NONSGML v1.0//EN
CALSCALE:GREGORIAN
METHOD:PUBLISH
X-WR-CALNAME:Guía Minera de Chile
X-ORIGINAL-URL:https://www.guiaminera.cl
X-WR-CALDESC:Eventos para Guía Minera de Chile
BEGIN:VTIMEZONE
TZID:America/Halifax
BEGIN:DAYLIGHT
TZOFFSETFROM:-0400
TZOFFSETTO:-0300
TZNAME:ADT
DTSTART:20200308T060000
END:DAYLIGHT
BEGIN:STANDARD
TZOFFSETFROM:-0300
TZOFFSETTO:-0400
TZNAME:AST
DTSTART:20201101T050000
END:STANDARD
END:VTIMEZONE
BEGIN:VEVENT
DTSTART;VALUE=DATE:20200106
DTEND;VALUE=DATE:20200108
DTSTAMP:20260424T154510
CREATED:20191226T232212Z
LAST-MODIFIED:20191226T232212Z
UID:6090-1578351600-1578437999@www.guiaminera.cl
SUMMARY:Conferencia de Prensa Cámara Minera de Chile
DESCRIPTION:   La directiva de la Cámara Minera de Chile\, presidida por don Manuel Viera\, los saluda cordialmente y tienen el agrado de invitarlos a una Conferencia de Prensa\, en la que además de presentar los objetivos de esta Asociación Gremial\, se darán a conocer los resultados de los acuerdos firmados en el marco de la Misión Empresarial a Ecuador\, realizada en Quito entre el 8 y 11 de diciembre. \n La actividad se realizará el día martes 7 de enero de 2020\, a las 09:30 am\, en Dr. Carlos Charlin 1521\, Santiago\, Providencia\, ocasión en la que trataremos los temas de la contingencia del sector minero.
URL:https://www.guiaminera.cl/evento/conferencia-de-prensa-camara-minera-de-chile/
ATTACH;FMTTYPE=image/jpeg:https://www.guiaminera.cl/wp-content/uploads/2019/12/camera-minera-de-chile.jpg
END:VEVENT
END:VCALENDAR