BEGIN:VCALENDAR
VERSION:2.0
PRODID:-//Guía Minera de Chile - ECPv5.3.0//NONSGML v1.0//EN
CALSCALE:GREGORIAN
METHOD:PUBLISH
X-WR-CALNAME:Guía Minera de Chile
X-ORIGINAL-URL:https://www.guiaminera.cl
X-WR-CALDESC:Eventos para Guía Minera de Chile
BEGIN:VTIMEZONE
TZID:America/Halifax
BEGIN:DAYLIGHT
TZOFFSETFROM:-0400
TZOFFSETTO:-0300
TZNAME:ADT
DTSTART:20210314T060000
END:DAYLIGHT
BEGIN:STANDARD
TZOFFSETFROM:-0300
TZOFFSETTO:-0400
TZNAME:AST
DTSTART:20211107T050000
END:STANDARD
END:VTIMEZONE
BEGIN:VEVENT
DTSTART;VALUE=DATE:20210119
DTEND;VALUE=DATE:20210120
DTSTAMP:20260423T113416
CREATED:20210116T000143Z
LAST-MODIFIED:20210116T000143Z
UID:9830-1611014400-1611100799@www.guiaminera.cl
SUMMARY:"ESTADO ACTUAL Y PERSPECTIVAS DEL CONSUMO DE ENERGÍA EN LA MINERÍA DEL COBRE"
DESCRIPTION:Programa: Martes 19 de enero\, 10:00 horas. \n10.00: Inaugura biministro de Energía y Minería\, Juan Carlos Jobet.\n10:15: Introducción\, vicepresidente ejecutivo de Cochilco\, Marco Riveros.\n10:30: Presentación ”Estado Actual y Perspectivas del Consumo de Energía en la Minería del Cobre».\n11:00: Panel\n11:30: Preguntas\n11:45: Cierre de la actividad \n\nREGISTRARSE
URL:https://www.guiaminera.cl/evento/estado-actual-y-perspectivas-del-consumo-de-energia-en-la-mineria-del-cobre/
END:VEVENT
END:VCALENDAR