BEGIN:VCALENDAR
VERSION:2.0
PRODID:-//Guía Minera de Chile - ECPv5.3.0//NONSGML v1.0//EN
CALSCALE:GREGORIAN
METHOD:PUBLISH
X-WR-CALNAME:Guía Minera de Chile
X-ORIGINAL-URL:https://www.guiaminera.cl
X-WR-CALDESC:Eventos para Guía Minera de Chile
BEGIN:VTIMEZONE
TZID:America/Halifax
BEGIN:DAYLIGHT
TZOFFSETFROM:-0400
TZOFFSETTO:-0300
TZNAME:ADT
DTSTART:20200308T060000
END:DAYLIGHT
BEGIN:STANDARD
TZOFFSETFROM:-0300
TZOFFSETTO:-0400
TZNAME:AST
DTSTART:20201101T050000
END:STANDARD
END:VTIMEZONE
BEGIN:VEVENT
DTSTART;VALUE=DATE:20201116
DTEND;VALUE=DATE:20201121
DTSTAMP:20260420T111309
CREATED:20201113T001800Z
LAST-MODIFIED:20201113T001800Z
UID:9014-1605484800-1605916799@www.guiaminera.cl
SUMMARY:EXPOMINAS VIRTUAL 2020
DESCRIPTION:HJ Becdach invita del 16 al 20 de noviembre del 2020 a ser parte de la feria virtual más importante de la minería en el #Ecuador. \n#ExpominasVirtual2020\nEvento internacional al más alto nivel\, lo invitamos a que se registre en el siguiente link \nhttps://expominasvirtual.com/registro \n 
URL:https://www.guiaminera.cl/evento/expominas-virtual-2020/
END:VEVENT
END:VCALENDAR