BEGIN:VCALENDAR
VERSION:2.0
PRODID:-//Guía Minera de Chile - ECPv5.3.0//NONSGML v1.0//EN
CALSCALE:GREGORIAN
METHOD:PUBLISH
X-WR-CALNAME:Guía Minera de Chile
X-ORIGINAL-URL:https://www.guiaminera.cl
X-WR-CALDESC:Eventos para Guía Minera de Chile
BEGIN:VTIMEZONE
TZID:America/Halifax
BEGIN:DAYLIGHT
TZOFFSETFROM:-0400
TZOFFSETTO:-0300
TZNAME:ADT
DTSTART:20210314T060000
END:DAYLIGHT
BEGIN:STANDARD
TZOFFSETFROM:-0300
TZOFFSETTO:-0400
TZNAME:AST
DTSTART:20211107T050000
END:STANDARD
END:VTIMEZONE
BEGIN:VEVENT
DTSTART;VALUE=DATE:20210128
DTEND;VALUE=DATE:20210130
DTSTAMP:20260423T141607
CREATED:20210108T013546Z
LAST-MODIFIED:20210108T013546Z
UID:9740-1611792000-1611964799@www.guiaminera.cl
SUMMARY:IJANDEAN20
DESCRIPTION:Join the top industry leaders at IJANDEAN20 this January 28 & 29\, to understand Latin America’s most fertile region for growth and opportunity in a virtual event packed with leading insights from project sponsors\, governments\, lendors and investors in the middle of the action. \n  \n  \nSPEAKERS INCLUDE:  \n  \n\nManuel Felipe Gutierrez\, President\, Agencia Nacional de Infraestructura\nFrancisco Lozano\, President\, Financiera de Desarrollo Nacional\nFabian Ibarburu\, Head of CAF-AM Uruguay\, CAF-AM\nIvan Oliveros\, Board Member\, LAC-CORE\nJuan Pablo Raffetto\, Director\, Vice President – Head of LATAM Infrastructure\, MetLife\nAlfredo Palacios\, Director\, Commercial Partnering and Development – South America\, GE Renewable Energy\nRael McNally\, Director\, BlackRock\n\n  \n  \nTOPICS TO BE DEBATED INCLUDE:  \n\nUnlocking Peru’s potential through new project offerings and infrastructure ambitions\nChile Decarbonization: Ascertaining the scope of renewables projects and opportunities for further financing in 2021\nDigital Infrastructure in Colombia: Determining opportunities and optimal structures for financing digital infrastructure\nAndean Financing Panel: Scoping investor confidence and a profile of transactions for Andean infrastructure in key sectors\nTaking ESG to another level – What sustainability-linked financing structures and projects are eligible?\nEquity Holder Discussion: Drilling into new projects\, operating structures\, and cost reduction exercises to increase yield\n\n  \n*We are constantly updating our agenda. Register below to be the first notified about our latest event updates.\n\n\n\n\n\n\n\n\n\n\n\n\n\n\n\n\n\n\n\n\n\n\n\n\n\n\n\n\n\n\n\n\n\nREGISTER NOW
URL:https://www.guiaminera.cl/evento/ijandean20/
END:VEVENT
END:VCALENDAR