BEGIN:VCALENDAR
VERSION:2.0
PRODID:-//Guía Minera de Chile - ECPv5.3.0//NONSGML v1.0//EN
CALSCALE:GREGORIAN
METHOD:PUBLISH
X-WR-CALNAME:Guía Minera de Chile
X-ORIGINAL-URL:https://www.guiaminera.cl
X-WR-CALDESC:Eventos para Guía Minera de Chile
BEGIN:VTIMEZONE
TZID:America/Halifax
BEGIN:DAYLIGHT
TZOFFSETFROM:-0400
TZOFFSETTO:-0300
TZNAME:ADT
DTSTART:20210314T060000
END:DAYLIGHT
BEGIN:STANDARD
TZOFFSETFROM:-0300
TZOFFSETTO:-0400
TZNAME:AST
DTSTART:20211107T050000
END:STANDARD
END:VTIMEZONE
BEGIN:VEVENT
DTSTART;TZID=America/Halifax:20210119T080000
DTEND;TZID=America/Halifax:20210119T170000
DTSTAMP:20260423T113050
CREATED:20210119T135940Z
LAST-MODIFIED:20210119T140132Z
UID:9847-1611043200-1611075600@www.guiaminera.cl
SUMMARY:Lanzamiento del Programa “Conductoras de Minería 4.0”
DESCRIPTION:iniciativa que nace de la alianza de More Value Company y Automóvil Club Chile\, que cuenta con el gran apoyo de Fundación Chile y el patrocinio del Ministerio de Minería\, la Cámara Minera de Chile y LIQCAU de HEUMA. \nMartes 19 de enero \nInscripciones: https://forms.gle/HotTYxsmbFNKQQWP7
URL:https://www.guiaminera.cl/evento/lanzamiento-del-programa-conductoras-de-mineria-4-0/
ATTACH;FMTTYPE=image/jpeg:https://www.guiaminera.cl/wp-content/uploads/2021/01/conductoras.jpg
END:VEVENT
END:VCALENDAR