BEGIN:VCALENDAR
VERSION:2.0
PRODID:-//Guía Minera de Chile - ECPv5.3.0//NONSGML v1.0//EN
CALSCALE:GREGORIAN
METHOD:PUBLISH
X-WR-CALNAME:Guía Minera de Chile
X-ORIGINAL-URL:https://www.guiaminera.cl
X-WR-CALDESC:Eventos para Guía Minera de Chile
BEGIN:VTIMEZONE
TZID:America/Halifax
BEGIN:DAYLIGHT
TZOFFSETFROM:-0400
TZOFFSETTO:-0300
TZNAME:ADT
DTSTART:20200308T060000
END:DAYLIGHT
BEGIN:STANDARD
TZOFFSETFROM:-0300
TZOFFSETTO:-0400
TZNAME:AST
DTSTART:20201101T050000
END:STANDARD
END:VTIMEZONE
BEGIN:VEVENT
DTSTART;VALUE=DATE:20201117
DTEND;VALUE=DATE:20201118
DTSTAMP:20260420T081632
CREATED:20201113T171944Z
LAST-MODIFIED:20201113T171944Z
UID:9018-1605571200-1605657599@www.guiaminera.cl
SUMMARY:LANZAMIENTO MANUAL DE RECUPERACIÓN DE VALOR DE RELAVES
DESCRIPTION:
URL:https://www.guiaminera.cl/evento/lanzamiento-manual-de-recuperacion-de-valor-de-relaves/
END:VEVENT
END:VCALENDAR