BEGIN:VCALENDAR
VERSION:2.0
PRODID:-//Guía Minera de Chile - ECPv5.3.0//NONSGML v1.0//EN
CALSCALE:GREGORIAN
METHOD:PUBLISH
X-WR-CALNAME:Guía Minera de Chile
X-ORIGINAL-URL:https://www.guiaminera.cl
X-WR-CALDESC:Eventos para Guía Minera de Chile
BEGIN:VTIMEZONE
TZID:America/Halifax
BEGIN:DAYLIGHT
TZOFFSETFROM:-0400
TZOFFSETTO:-0300
TZNAME:ADT
DTSTART:20220313T060000
END:DAYLIGHT
BEGIN:STANDARD
TZOFFSETFROM:-0300
TZOFFSETTO:-0400
TZNAME:AST
DTSTART:20221106T050000
END:STANDARD
END:VTIMEZONE
BEGIN:VEVENT
DTSTART;VALUE=DATE:20220830
DTEND;VALUE=DATE:20220831
DTSTAMP:20260420T110414
CREATED:20220621T211459Z
LAST-MODIFIED:20220621T211625Z
UID:19639-1661817600-1661903999@www.guiaminera.cl
SUMMARY:M&T Expo 2022
DESCRIPTION:Como representante oficial de la compañía ferial de Múnich\, la Cámara Chileno-Alemana de Comercio e Industria (AHK Chile)\, se complace en invitarles a participar en la 11ª edición de la M&T Expo\, que tendrá lugar del 30 de agosto al 2 de septiembre de 2022 en São Paulo\, Brasil. \nLa M&T Expo forma parte de la bauma NETWORK y es una de las principales plataformas de intercambio para las industrias de Construcción y Minería en Brasil y en América Latina. En la última edición en 2018 participaron más de 40.000 visitantes de unos 40 países. \nLa amplia gama de productos y servicios se divide en cuatro sectores: \n\nequipos para construcción y minería\,\nhormigón y asfalto\nelevación de carga y personas y\ncomponentes y servicios.\n\n¡No se pierdan la oportunidad de estar presente en M&T Expo 2022 como expositor o visitante! \nSi tienen alguna duda o pregunta\, no duden en ponerse en contacto con nosotros. ¡Quedamos atentos a sus comentarios! \nSaludos cordiales\, \nFelix Klein\nProject Manager Industry & Trade Fairs\nAHK Chile\n+569 58165316 | fklein@ahkchile.cl \n  \n  \n 
URL:https://www.guiaminera.cl/evento/mt-expo-2022/
ATTACH;FMTTYPE=image/jpeg:https://www.guiaminera.cl/wp-content/uploads/2022/06/Captura-16.jpg
END:VEVENT
END:VCALENDAR