BEGIN:VCALENDAR
VERSION:2.0
PRODID:-//Guía Minera de Chile - ECPv5.3.0//NONSGML v1.0//EN
CALSCALE:GREGORIAN
METHOD:PUBLISH
X-WR-CALNAME:Guía Minera de Chile
X-ORIGINAL-URL:https://www.guiaminera.cl
X-WR-CALDESC:Eventos para Guía Minera de Chile
BEGIN:VTIMEZONE
TZID:America/Halifax
BEGIN:DAYLIGHT
TZOFFSETFROM:-0400
TZOFFSETTO:-0300
TZNAME:ADT
DTSTART:20190310T060000
END:DAYLIGHT
BEGIN:STANDARD
TZOFFSETFROM:-0300
TZOFFSETTO:-0400
TZNAME:AST
DTSTART:20191103T050000
END:STANDARD
END:VTIMEZONE
BEGIN:VEVENT
DTSTART;VALUE=DATE:20191208
DTEND;VALUE=DATE:20191210
DTSTAMP:20260424T170940
CREATED:20191207T062834Z
LAST-MODIFIED:20191208T162936Z
UID:5916-1575846000-1575932399@www.guiaminera.cl
SUMMARY:Presentan innovador sistema de gestión de recursos hídricos
DESCRIPTION:Los ministros de Obras Públicas\, Alfredo Moreno\, y de Minería\, Baldo Prokurica\, junto al vicepresidente de Asuntos Corporativos de Anglo American\, René Muga\, y a la presidenta de la Asociación de APR (Agua Potable Rural) de la Provincia de Chacabuco\, Ana Luisa Morgado\, presentarán innovador sistema de automatización y monitoreo en línea que\, incorporando mejoras tecnológicas\, equipamiento e infraestructura\, ha permitido optimizar la gestión de los recursos hídricos existentes; y que puede ser replicable en otros APR del país. \nLa iniciativa es fruto del trabajo colaborativo que Anglo American ha desarrollado con los vecinos de la provincia y el Ministerio de Obras Públicas. A la fecha\, este sistema se ha implementado en 24 APR de las comunas de Lampa\, Colina y Til Til\, beneficiando a más de 55 mil personas\, a través del ahorro en el consumo energético\, la disminución en la rotura de matrices y el aumento en la disponibilidad de agua. \nDía: Lunes 09 de diciembre. \nHora: 11:45 horas \nLugar: Sector de estanques de regulación de agua del APR Santa Sara s/n\, Batuco\, Región Metropolitana. \nContacto de prensa: Álvaro Carreño +569 61225959
URL:https://www.guiaminera.cl/evento/presentan-innovador-sistema-de-gestion-de-recursos-hidricos/
END:VEVENT
END:VCALENDAR