BEGIN:VCALENDAR
VERSION:2.0
PRODID:-//Guía Minera de Chile - ECPv5.3.0//NONSGML v1.0//EN
CALSCALE:GREGORIAN
METHOD:PUBLISH
X-WR-CALNAME:Guía Minera de Chile
X-ORIGINAL-URL:https://www.guiaminera.cl
X-WR-CALDESC:Eventos para Guía Minera de Chile
BEGIN:VTIMEZONE
TZID:America/Halifax
BEGIN:DAYLIGHT
TZOFFSETFROM:-0400
TZOFFSETTO:-0300
TZNAME:ADT
DTSTART:20220313T060000
END:DAYLIGHT
BEGIN:STANDARD
TZOFFSETFROM:-0300
TZOFFSETTO:-0400
TZNAME:AST
DTSTART:20221106T050000
END:STANDARD
END:VTIMEZONE
BEGIN:VEVENT
DTSTART;VALUE=DATE:20220923
DTEND;VALUE=DATE:20220924
DTSTAMP:20260420T052707
CREATED:20220823T021552Z
LAST-MODIFIED:20220823T021552Z
UID:20950-1663891200-1663977599@www.guiaminera.cl
SUMMARY:VI FORO DEL LITIO 2022
DESCRIPTION:HOTEL BEST WESTERN MARINA\, LAS CONDES\, STGO \nSantiago 28 de septiembre 2022 \nOrganiza B2B Media Group \nForo del Litio se presenta como un escenario para el debate entre autoridades y todos quienes se desempeñan de alguna u otra manera en este negocio. \nEn ese contexto\, se trata del escenario ideal para la convocatoria de expertos extranjeros\, principalmente de la Región\, con el fin de que revelen los avances y hacia dónde apunta el mercado\, además de las potencialidades que tiene el litio desde esta parte del mundo. \nEs además un punto de encuentro de representantes del sector privado\, ejecutivos de compañías nacionales y extranjeras que han demostrado un gran interés\, a partir de la exploración y desarrollo de los recursos que presenta Chile\, en asentarse en suelo nacional gracias al rápido avance que experimenta por ejemplo la industria. \nPrograma \n“ACELERANDO LA TRANSICIÓN HACIA UNA ENERGÍA LIMPIA Y SOSTENIBLE” \n08:30-08:59    Acreditación. \n09:00-09:10    Palabras de bienvenida: Sr. Cristián Solís\, Gerente General B2B Media Group. \n09:10-09:25    Palabras de bienvenida: Sr. Todd Mercer\, Embajador de Australia en Chile. \n09:25-09:45    Palabras de Subsecretario de Minería de la República de Chile\, Willy Kracht. \n09:45-10:50    Módulo I: Demanda de mercado \nModerador: José Joaquín Jara\, Director CESCO; Profesor de Evaluación de Recursos Mineros y Economía de Minerales Departamento de Ingeniería de Minería\, Pontificia Universidad Católica de Chile. \nMarcelo Bolton\, Senior Consultant Mining & Metals en CRU.\n“Mercado regional del Litio” \nEric Schmidt\, Technical & Executive Manager en CBB Cales\n“la cal y su importancia estratégica en la industria del Litio” \n10:55-11:10    COFFE BREAK \n11:15-12:55    Módulo II: Litio y Valor social \nModerador: Yuri Rojo Galleguillos\, Director de Minería y Valor Social – IDEAS B y Consultor Independiente; Profesor asociado de MBA Dirección de Empresas en Universidad Católica del Norte. \nCarla Martínez es Asociado Senior en WSP\, Australia.\n“Litio y una transición justa a NetZero”“ \nHéctor Cruz Presidente de la Comunidad Indígena Atacameña de Camar\n13:00-14:00    ALMUERZO \n14:00-15:00    Módulo III: Recursos y reservas \nJosé Martín Cabello\, Manager Latin America en Mineralium Consulting Group.\n“Reservas y recursos de salmueras de litio en el norte de Chile” \nAndrés González Eyzaguirre es Analista de Estrategia y Políticas Públicas en Cochilco.\n“Recursos y reservas de litio en Chile” \n15:00-16:00    Módulo IV: Litio 0 Emisión \nALBEMARLE-TEMA POR CONFIRMAR\nSQM-TEMA POR CONFIRMAR\nMario Grágeda Zegarra\, Director de Celimin\n“Extracción directa de litio y su efecto en la huella de carbono e hídrica”
URL:https://www.guiaminera.cl/evento/vi-foro-del-litio-2022/
ATTACH;FMTTYPE=image/jpeg:https://www.guiaminera.cl/wp-content/uploads/2022/08/Captura-40.jpg
END:VEVENT
END:VCALENDAR