BEGIN:VCALENDAR
VERSION:2.0
PRODID:-//Guía Minera de Chile - ECPv5.3.0//NONSGML v1.0//EN
CALSCALE:GREGORIAN
METHOD:PUBLISH
X-WR-CALNAME:Guía Minera de Chile
X-ORIGINAL-URL:https://www.guiaminera.cl
X-WR-CALDESC:Eventos para Guía Minera de Chile
BEGIN:VTIMEZONE
TZID:America/Halifax
BEGIN:DAYLIGHT
TZOFFSETFROM:-0400
TZOFFSETTO:-0300
TZNAME:ADT
DTSTART:20200308T060000
END:DAYLIGHT
BEGIN:STANDARD
TZOFFSETFROM:-0300
TZOFFSETTO:-0400
TZNAME:AST
DTSTART:20201101T050000
END:STANDARD
END:VTIMEZONE
BEGIN:VEVENT
DTSTART;VALUE=DATE:20201118
DTEND;VALUE=DATE:20201119
DTSTAMP:20260420T053545
CREATED:20201112T025626Z
LAST-MODIFIED:20201112T025626Z
UID:8993-1605657600-1605743999@www.guiaminera.cl
SUMMARY:WEBINAR: Calificación Industrial e Informes Sanitario. Permisos Claves para la Industria
DESCRIPTION:¿Te interesan las Calificaciones Técnicas e Informes Sanitarios?\nTe invitamos a participar en este Webinar – organizado por Better – donde Carlos LeBlanc\, Víctor González y Jorge Araya\, tres experimentados profesionales\, conversarán y compartirán su experiencia sobre estos permisos claves en la industria.\nÚnete a nosotros este 18 de noviembre de 2020 a las 10:00 AM.\n¿Cómo ingresar? \nPROGRAMA Y REGISTRASE \n 
URL:https://www.guiaminera.cl/evento/webinar-calificacion-industrial-e-informes-sanitario-permisos-claves-para-la-industria/
END:VEVENT
END:VCALENDAR