BEGIN:VCALENDAR
VERSION:2.0
PRODID:-//Guía Minera de Chile - ECPv5.3.0//NONSGML v1.0//EN
CALSCALE:GREGORIAN
METHOD:PUBLISH
X-WR-CALNAME:Guía Minera de Chile
X-ORIGINAL-URL:https://www.guiaminera.cl
X-WR-CALDESC:Eventos para Guía Minera de Chile
BEGIN:VTIMEZONE
TZID:America/Halifax
BEGIN:DAYLIGHT
TZOFFSETFROM:-0400
TZOFFSETTO:-0300
TZNAME:ADT
DTSTART:20210314T060000
END:DAYLIGHT
BEGIN:STANDARD
TZOFFSETFROM:-0300
TZOFFSETTO:-0400
TZNAME:AST
DTSTART:20211107T050000
END:STANDARD
END:VTIMEZONE
BEGIN:VEVENT
DTSTART;TZID=America/Halifax:20210128T080000
DTEND;TZID=America/Halifax:20210128T170000
DTSTAMP:20260423T215151
CREATED:20210122T023503Z
LAST-MODIFIED:20210122T023503Z
UID:9913-1611820800-1611853200@www.guiaminera.cl
SUMMARY:Webinar | Nueva constitución de Chile: el impacto potencial en los sectores mineros y eléctricos
DESCRIPTION:Webinar sobre la nueva constitución de Chile y su impacto potencial en los sectores mineros y eléctricos. Contaremos con la participación de Rony Zimerman\, Líder de Recursos Naturales y Minería en Lembeye Abogados y Cristián Araya\, Director de Energía\, Proyectos y Sostenibilidad en Albagli Zaliasnik.\n\n\n\n\n\n\n\n\n\n\n\n  \n\n\n\n\n\n\n\n\n\n\n\n¿Cuándo? 28 de enero. 11:00 am hora de Chile. \n¿Cómo registrarse? Haz clic aquí y completa el formulario. Luego recibirás un correo con la confirmación. Los cupos son limitados. \nIdioma: inglés. \nModeradores: César Illiano\, director de Contenido en BNamericas y Sebastián Pérez-Ferreiro\, editor senior en BNamericas. \nPanelistas invitados: Rony Zimerman\, Líder de Recursos Naturales y Minería en Lembeye Abogados y Cristián Araya\, Director de Energía\, Proyectos y Sostenibilidad en Albagli Zaliasnik. \n¿De qué se trata el webinar?\nDos expertos legales analizarán los posibles escenarios que surgirán del proceso constitucional y cómo podrán impactar el clima de inversión en las industrias mineras y eléctricas. ¿Cambiarán las reglas para hacer negocios en Chile? \n \n\n\n\n\n\n\n\n\n\n\n\n\n\n\n\n\n\n\n\nRegistrarse en el webinar
URL:https://www.guiaminera.cl/evento/webinar-nueva-constitucion-de-chile-el-impacto-potencial-en-los-sectores-mineros-y-electricos/
END:VEVENT
END:VCALENDAR